BEGIN:VCALENDAR
VERSION:2.0
PRODID:-//wp-events-plugin.com//7.2.3.1//EN
BEGIN:VEVENT
UID:5980@hamburgersessions.de
DTSTART;TZID=Europe/Berlin:20240606T200000
DTEND;TZID=Europe/Berlin:20240606T234500
DTSTAMP:20240513T133056Z
URL:https://hamburgersessions.de/events/haus-drei-fem-jam-ottensen/
SUMMARY:Haus Drei - FEM* JAM (Ottensen)
DESCRIPTION:Jam Session: Das heißt\, alle Instrumente und alle Musikstile 
 sind willkommen!\n\n 	https://frauenmusikzentrum.de/\n\nBitte informiere d
 ich z.B.  über die oben stehenden Links\, ob diese Veranstaltung wirklic
 h am angegebenen Tag stattfindet. Es kann vorkommen\, dass einzelne Termin
 e ausfallen\, die Terminserie verschoben oder insgesamt beendet wurde\, di
 ese Information hier jedoch noch nicht hinterlegt wurde. Keine Haftung fü
 r unnötige Fahrtwege! :-)\n\n\n\nDie FEM* JAM – Session findet in einer
  gemütlichen Runde im Saal des HausDrei in Altona statt. Wir wollen Musik
 erinnen* in ihrer Musik bestärken\, inspirieren und vernetzen.\n\nZudem s
 ind Jamsessions ein wunderbarer Ort\, um sich auszuprobieren\, Musik neu z
 u entdecken und mit seinem Talent gesehen zu werden. Es können bestehende
  Songs ausprobiert werden oder eigene Lieder in einer Session entstehen. D
 abei geht es nicht um das perfekte Spielen am Instrument\, sondern um das 
 gemeinsame Ausprobieren\, Inspirieren und den Austausch.\n\nJede* hat die 
 Möglichkeit sich einzubringen. Ein respektvoller Umgang untereinander wir
 d dabei vorausgesetzt.\n\nOhne Anmeldung\, come as you are!\n\n 	Jam-Openi
 ng an diesem Abend\n 	Ohne Anmeldung – Come as you are! Bringt gerne eur
 e eigenen Instrumente mit\n 	Backline ist vorhanden: Bass- und Gitarrenver
 stärker\, Schlagzeug\, Mics\, Klavier\, Percussions\n 	Bühne ist für FL
 INTA* only // Publikum für all Gender\n
ATTACH;FMTTYPE=image/jpeg:https://hamburgersessions.de/wp-content/uploads/
 2024/05/Instagram-Kachel_pink.png
LOCATION:Haus Drei\, Hospitalstraße 107\, 22767 Hamburg\, Deutschland
X-APPLE-STRUCTURED-LOCATION;VALUE=URI;X-ADDRESS=Hospitalstraße 107\, 22767
  Hamburg\, Deutschland;X-APPLE-RADIUS=100;X-TITLE=Haus Drei:geo:0,0
END:VEVENT
BEGIN:VTIMEZONE
TZID:Europe/Berlin
X-LIC-LOCATION:Europe/Berlin
BEGIN:DAYLIGHT
DTSTART:20240331T030000
TZOFFSETFROM:+0100
TZOFFSETTO:+0200
TZNAME:CEST
END:DAYLIGHT
END:VTIMEZONE
END:VCALENDAR