BEGIN:VCALENDAR
VERSION:2.0
PRODID:-//wp-events-plugin.com//7.2.3.1//EN
BEGIN:VEVENT
UID:5975@hamburgersessions.de
DTSTART:20241012T193000Z
DTEND:20241012T234500Z
DTSTAMP:20240513T111213Z
URL:https://hamburgersessions.de/events/honigfabrik-tak-open-stage-mit-anm
 eldung-wilhelmsburg-2/
SUMMARY:Honigfabrik - TAK Open Stage (mit Anmeldung\, Wilhelmsburg)
DESCRIPTION:Open Stage: Das heißt\, alle Instrumente und alle Musikstile s
 ind willkommen! Grundsätzlich sollen aber eigene Songs gespielt werden.\n
 \n 	https://www.facebook.com/taktheateramkulturkanal\n 	Anmeldung unter: t
 akwilhelmsburginfo@posteo.de\n\nBitte informiere dich z.B. über die oben 
 stehenden Links\, ob diese Veranstaltung wirklich am angegebenen Tag statt
 findet. Es kann vorkommen\, dass einzelne Termine ausfallen\, die Terminse
 rie verschoben oder insgesamt beendet wurde\, diese Information hier jedoc
 h noch nicht hinterlegt wurde. Keine Haftung für unnötige Fahrtwege! :-)
 \n\n\n\nTAK'OS XVI - die Open Stage in Wilhelmsburg\n\nWir freuen uns\, eu
 ch auch 2024 wieder die Vielseitigkeit der lebendigen Kunst auf der Bühne
  präsentieren zu dürfen.Erlebt großartige Künstler*innen\, die begeist
 ern\, faszinieren\, euch berühren und Freude schenken. Lasst uns gemeinsa
 m Lachen\, Weinen\, Staunen und Gänsehaut bekommen\, wenn die Talente uns
 eres Viertels und der ganzen Stadt ihr bestes geben.\nEs ist Zeit für ein
  gemeinsames Erlebnis. für Lebens-Freude!Sie ist die Kraft\, die wir jetz
 t brauchen\, um trotz aller Krisen weiter machen zu können.\n\nEinlass: 1
 9:30 UhrBeginn: 20:00 UhrEintritt gegen Spende mind. 5\,- Euro\nSaal der H
 onigfabrik\,Industriestrasse 125\,21107 Hamburg\n\nDu bist Bühnenkünstle
 r*in\, ihr habt eine Gruppe und wollt euch auf der Bühne präsentieren?Ob
  Musik\, Tanz\, Theater\, Poetry\, Akrobatik\, Zauberei\, Comedy\, Burlesq
 ue .... alles ist willkommen\, zeigt was ihr könnt\, was euch am meisten 
 Spaß macht und wir werden einen tollen Abend haben!\nMelde/t dich/euch pe
 r Mail unter takwilhelmsburginfo@posteo.de an und die neuen Termine erfahr
 t ihr in unserem Newsletter oder hier auf FB oder Instagram.\nDie Eintritt
 sspende wird wieder unter den KünstlerInnen aufgeteilt und ein Teil geht 
 an die Honigfabrik.\n\nUnd wir brauchen auch noch HelferInnen. Wenn du als
 o Lust hast bei Wilhelmsburgs erster Open Stage mit Varieté Charakter im 
 Ambiente eines pariser Nachtclubs der 60er Jahre zu helfen\, dann melde di
 ch gern.Wir suchen noch Menschen für den Einlass\, Auf und Abbau und auch
  ganz dringend für die Technik und eine/n Fotograf*in\, die den Abend beg
 leitet.\nAber ganz besonders laden wir alle Interessierte ein\, Teil des T
 AK Teams zu werden\, des Theater am Kulturkanals mit dem Ziel in Wilhelmsb
 urg ein Haus für die lebendige Kunst zu schaffen. Eine große Bühne\, mi
 t Probenräumen für Tanz\, Theater\, Zirkus\, Musik\, einem kleinem Progr
 ammkino\, eine Art Kompetenzzentrum für die Bühnenkünste mit integriert
 er Schule und Kursprogramm für alle Interessierten und künftigen Bühnen
 künstler*innen\, hier in Wilhelmsburg.\n\nFoto: Sandra Wieschebrock
ATTACH;FMTTYPE=image/jpeg:https://hamburgersessions.de/wp-content/uploads/
 2024/05/takos.jpg
LOCATION:Honigfabrik\, Industriestraße 125-131\, Hamburg\, 20539\, Deutsch
 land
X-APPLE-STRUCTURED-LOCATION;VALUE=URI;X-ADDRESS=Industriestraße 125-131\, 
 Hamburg\, 20539\, Deutschland;X-APPLE-RADIUS=100;X-TITLE=Honigfabrik:geo:0
 ,0
END:VEVENT
END:VCALENDAR