BEGIN:VCALENDAR
VERSION:2.0
PRODID:-//wp-events-plugin.com//7.2.3.1//EN
BEGIN:VEVENT
UID:5974@hamburgersessions.de
DTSTART;TZID=Europe/Berlin:20240615T193000
DTEND;TZID=Europe/Berlin:20240615T234500
DTSTAMP:20240513T111253Z
URL:https://hamburgersessions.de/events/honigfabrik-tak-open-stage-mit-anm
 eldung-wilhelmsburg/
SUMMARY:Honigfabrik - TAK Open Stage (mit Anmeldung\, Wilhelmsburg)
DESCRIPTION:Open Stage: Das heißt\, alle Instrumente und alle Musikstile s
 ind willkommen! Grundsätzlich sollen aber eigene Songs gespielt werden.\n
 \n 	https://www.facebook.com/taktheateramkulturkanal\n 	Anmeldung unter: t
 akwilhelmsburginfo@posteo.de\n\nBitte informiere dich z.B. über die unten
  stehenden Links\, ob diese Veranstaltung wirklich am angegebenen Tag stat
 tfindet. Es kann vorkommen\, dass einzelne Termine ausfallen\, die Termins
 erie verschoben oder insgesamt beendet wurde\, diese Information hier jedo
 ch noch nicht hinterlegt wurde. Keine Haftung für unnötige Fahrtwege! :-
 )\n\n\n\nTAK'OS XVI - die Open Stage in Wilhelmsburg\n\nWir freuen uns\, e
 uch auch 2024 wieder die Vielseitigkeit der lebendigen Kunst auf der Bühn
 e präsentieren zu dürfen.Erlebt großartige Künstler*innen\, die begeis
 tern\, faszinieren\, euch berühren und Freude schenken. Lasst uns gemeins
 am Lachen\, Weinen\, Staunen und Gänsehaut bekommen\, wenn die Talente un
 seres Viertels und der ganzen Stadt ihr bestes geben.\nEs ist Zeit für ei
 n gemeinsames Erlebnis. für Lebens-Freude!Sie ist die Kraft\, die wir jet
 zt brauchen\, um trotz aller Krisen weiter machen zu können.\n\n\nEinlass
 : 19:30 UhrBeginn: 20:00 UhrEintritt gegen Spende mind. 5\,- Euro\nSaal de
 r Honigfabrik\,Industriestrasse 125\,21107 Hamburg\n\n\nDu bist Bühnenkü
 nstler*in\, ihr habt eine Gruppe und wollt euch auf der Bühne präsentier
 en?Ob Musik\, Tanz\, Theater\, Poetry\, Akrobatik\, Zauberei\, Comedy\, Bu
 rlesque .... alles ist willkommen\, zeigt was ihr könnt\, was euch am mei
 sten Spaß macht und wir werden einen tollen Abend haben!\nMelde/t dich/eu
 ch per Mail unter takwilhelmsburginfo@posteo.de an und die neuen Termine e
 rfahrt ihr in unserem Newsletter oder hier auf FB oder Instagram.\nDie Ein
 trittsspende wird wieder unter den KünstlerInnen aufgeteilt und ein Teil 
 geht an die Honigfabrik.\n\n\nUnd wir brauchen auch noch HelferInnen. Wenn
  du also Lust hast bei wilhelmsburgs erster Open Stage mit Varieté Charak
 ter im Ambiente eines pariser Nachtclubs der 60er Jahre zu helfen\, dann m
 elde dich gern.Wir suchen noch Menschen für den Einlass\, Auf und Abbau u
 nd auch ganz dringend für die Technik und eine/n Fotograf*in\, die den Ab
 end begleitet.\nAber ganz besonders laden wir alle Interessierte ein\, Tei
 l des TAK Teams zu werden\, des Theater am Kulturkanals mit dem Ziel in Wi
 lhelmsburg ein Haus für die lebendige Kunst zu schaffen. Eine große Büh
 ne\, mit Probenräumen für Tanz\, Theater\, Zirkus\, Musik\, einem kleine
 m Programmkino\, eine Art Kompetenzzentrum für die Bühnenkünste mit int
 egrierter Schule und Kursprogramm für alle Interessierten und künftigen 
 Bühnenkünstler*innen\, hier in Wilhelmsburg.\n\n\nFoto: Sandra Wieschebr
 ock
ATTACH;FMTTYPE=image/jpeg:https://hamburgersessions.de/wp-content/uploads/
 2024/05/takos.jpg
LOCATION:Honigfabrik\, Industriestraße 125-131\, Hamburg\, 20539\, Deutsch
 land
X-APPLE-STRUCTURED-LOCATION;VALUE=URI;X-ADDRESS=Industriestraße 125-131\, 
 Hamburg\, 20539\, Deutschland;X-APPLE-RADIUS=100;X-TITLE=Honigfabrik:geo:0
 ,0
END:VEVENT
BEGIN:VTIMEZONE
TZID:Europe/Berlin
X-LIC-LOCATION:Europe/Berlin
BEGIN:DAYLIGHT
DTSTART:20240331T030000
TZOFFSETFROM:+0100
TZOFFSETTO:+0200
TZNAME:CEST
END:DAYLIGHT
END:VTIMEZONE
END:VCALENDAR