BEGIN:VCALENDAR
VERSION:2.0
PRODID:-//wp-events-plugin.com//7.2.3.1//EN
BEGIN:VEVENT
UID:5973@hamburgersessions.de
DTSTART;TZID=Europe/Berlin:20240525T200000
DTEND;TZID=Europe/Berlin:20240525T234500
DTSTAMP:20240513T104433Z
URL:https://hamburgersessions.de/events/kulturhof-dulsberg-jam-session-dul
 sberg/
SUMMARY:Kulturhof Dulsberg - Jam Session (Dulsberg)
DESCRIPTION:Jam Session: Das heißt\, alle Instrumente und alle Musikstile 
 sind willkommen!\n\n 	https://kulturhof-dulsberg.de/musik/\n 	https://de-d
 e.facebook.com/kulturhofjam\n\nBitte informiere dich z.B.  über die oben
  stehenden Links\, ob diese Veranstaltung wirklich am angegebenen Tag stat
 tfindet. Es kann vorkommen\, dass einzelne Termine ausfallen\, die Termins
 erie verschoben oder insgesamt beendet wurde\, diese Information hier jedo
 ch noch nicht hinterlegt wurde. Keine Haftung für unnötige Fahrtwege! :-
 )\n\n\n\nViermal im Jahr können MusikerInnen sich im Kulturhof gemeinsam 
 ausprobieren.\n\nBühne\, Technik und Backline inkl. Schlagzeug\, Keyboard
  und Flügel sind vorhanden\, nur die Instrumente müssen mitgebracht werd
 en. Gespielt wird Funk\, Rock\, Soul\, Jazz\, Blues und mehr.\n\nFreier Ei
 ntritt\, günstige Getränke\, Billardtisch\, Kicker &amp\; Co. sorgen jen
 seits der Bühne auch für Nichtmusiker für einen groovigen Abend mit imp
 rovisierter Live-Musik.
ATTACH;FMTTYPE=image/jpeg:https://hamburgersessions.de/wp-content/uploads/
 2024/05/kulturhofdulsberg_jam.jpg
LOCATION:Kulturhof Dulsberg\, Alter Teichweg 200\, 22049 Hamburg\, Deutschl
 and
X-APPLE-STRUCTURED-LOCATION;VALUE=URI;X-ADDRESS=Alter Teichweg 200\, 22049 
 Hamburg\, Deutschland;X-APPLE-RADIUS=100;X-TITLE=Kulturhof Dulsberg:geo:0,
 0
END:VEVENT
BEGIN:VTIMEZONE
TZID:Europe/Berlin
X-LIC-LOCATION:Europe/Berlin
BEGIN:DAYLIGHT
DTSTART:20240331T030000
TZOFFSETFROM:+0100
TZOFFSETTO:+0200
TZNAME:CEST
END:DAYLIGHT
END:VTIMEZONE
END:VCALENDAR