BEGIN:VCALENDAR
VERSION:2.0
PRODID:-//wp-events-plugin.com//7.2.3.1//EN
BEGIN:VEVENT
UID:5986@hamburgersessions.de
DTSTART;TZID=Europe/Berlin:20241007T200000
DTEND;TZID=Europe/Berlin:20241007T200000
DTSTAMP:20241103T201117Z
URL:https://hamburgersessions.de/events/mojo-jazz-cafe-mojams-st-pauli-202
 4-10-07/
SUMMARY:Mojo Jazz Café - Mo'Jams (St. Pauli)
DESCRIPTION:Konzert + Jam Session: Das heißt\, nach einem Konzert wird die
  Bühne für alle alle Instrumente geöffnet! Der Fokus liegt auf Jazz\, S
 oul\, etc.\n\n 	Jeden 1. Montag im Monat\n 	https://www.mojams.de/\n 	http
 s://www.instagram.com/mojamshh/\n\nBitte informiere dich z.B. über die ob
 en stehenden Links\, ob diese Veranstaltung wirklich am angegebenen Tag st
 attfindet. Es kann vorkommen\, dass einzelne Termine ausfallen\, die Termi
 nserie verschoben oder insgesamt beendet wurde\, diese Information hier je
 doch noch nicht hinterlegt wurde. Keine Haftung für unnötige Fahrtwege! 
 :-)\n\n\n\nMo'Jams\n+ + + The first 10 dancers + 14 musicians / vocalists 
 who send us a dm on instagram will receive free entry. + + +\n\nnach einer
  6 monatigen pause stehen die sterne endlich wieder günstig\, weshalb wir
  mit stolzer brust verkünden können: MO´JAMS is back! hamburgs livest 
 jam öffnet ab februar endlich wieder seine tore für euch! es haben sich 
 einige dinge [zum positiven] geändert.
ATTACH;FMTTYPE=image/jpeg:https://hamburgersessions.de/wp-content/uploads/
 2024/05/mojams.jpg
LOCATION:Mojo Jazz Café\, Reeperbahn 1\, 20359 Hamburg\, Deutschland
X-APPLE-STRUCTURED-LOCATION;VALUE=URI;X-ADDRESS=Reeperbahn 1\, 20359 Hambur
 g\, Deutschland;X-APPLE-RADIUS=100;X-TITLE=Mojo Jazz Café:geo:0,0
END:VEVENT
BEGIN:VTIMEZONE
TZID:Europe/Berlin
X-LIC-LOCATION:Europe/Berlin
BEGIN:DAYLIGHT
DTSTART:20240331T030000
TZOFFSETFROM:+0100
TZOFFSETTO:+0200
TZNAME:CEST
END:DAYLIGHT
END:VTIMEZONE
END:VCALENDAR