BEGIN:VCALENDAR
VERSION:2.0
PRODID:-//wp-events-plugin.com//7.2.3.1//EN
BEGIN:VEVENT
UID:5977@hamburgersessions.de
DTSTART;TZID=Europe/Berlin:20240525T200000
DTEND;TZID=Europe/Berlin:20240525T234500
DTSTAMP:20240513T131703Z
URL:https://hamburgersessions.de/events/white-cube-jam-session-bergedorf/
SUMMARY:White Cube - Jam Session (Bergedorf)
DESCRIPTION:Jam Session: Das heißt\, alle Instrumente und alle Musikstile 
 sind willkommen!\n\n 	https://whitecube-bergedorf.de/\n\nBitte informiere 
 dich z.B.  über die oben stehenden Links\, ob diese Veranstaltung wirkli
 ch am angegebenen Tag stattfindet. Es kann vorkommen\, dass einzelne Termi
 ne ausfallen\, die Terminserie verschoben oder insgesamt beendet wurde\, d
 iese Information hier jedoch noch nicht hinterlegt wurde. Keine Haftung f
 ür unnötige Fahrtwege! :-)
ATTACH;FMTTYPE=image/jpeg:https://hamburgersessions.de/wp-content/uploads/
 2024/05/whitecube.png
LOCATION:White Cube\, Kurt-A.-Körber-Chaussee 73 B\, 21033 Hamburg\, Deuts
 chland
X-APPLE-STRUCTURED-LOCATION;VALUE=URI;X-ADDRESS=Kurt-A.-Körber-Chaussee 73
  B\, 21033 Hamburg\, Deutschland;X-APPLE-RADIUS=100;X-TITLE=White Cube:geo
 :0,0
END:VEVENT
BEGIN:VTIMEZONE
TZID:Europe/Berlin
X-LIC-LOCATION:Europe/Berlin
BEGIN:DAYLIGHT
DTSTART:20240331T030000
TZOFFSETFROM:+0100
TZOFFSETTO:+0200
TZNAME:CEST
END:DAYLIGHT
END:VTIMEZONE
END:VCALENDAR